Workbook
Name agosto: #REF!
Name ALBARELLO_GIUSEPPE: Pivot_feste!$A$5:$B$90
Name archivio: #REF!
Name feste: Pivot_feste!$A$5:$B$200
Name marzo: GIUGNO!$A$2:$H$55
Name mens: Pivot_calcolo!$A$5:$D$200
Name ottobre: #REF!
Name set: #REF!
Name SETT1: #REF!
Name settembre: #REF!

Sheet per dete
A1: ALLEGATO B
A2: LIQUIDAZIONE INDENNITA' DI REPERIBILITA' AGOSTO SETTEMBRE 2026
A3: IN PAGAMENTO SU STIPENDI MESE DI OTTOBRE 2026
A5: Somma di Importo totale da liquidare
A6: Matricola | B6: mese | C6: Totale
A7: 102661 | B7: AGO | C7: 82.64
B8: SETT | C8: 161.42
A9: 102684 | B9: SETT | C9: 27.98
A10: 103485 | B10: SETT | C10: 120.1
A11: 102669 | B11: SETT | C11: 185.95
A12: 104106 | B12: SETT | C12: 133.02
A13: Totale complessivo | C13: 711.11
A15: IL DIRIGENTE DEL SETTORE RISORSE UMANE
A16: Dott.sssa Ilaria Passudetti
A17: f.to digitalmente

Sheet Foglio1

Sheet conteggio_reperibilita
A1: LIQUIDAZIONE INDENNITA' DI REPERIBILITA':
I2: 41.32 | L2: 10.33 | O2: 11.36
C3: REGIONE
A4: Settore | B4: CI | C4: Nominativo | D4: mese | E4: Nr. ore | F4: Ore Festività | G4: Ore residue | H4: Giorni festivi | I4: Tariffa Festiva | J4: Importo giorno festivo | K4: Giorni da 12 ore | L4: Tariffa | M4: Importo | N4: Giorni frazione | O4: Tariffa | P4: Importo giorni frazione | Q4: Importo totale da liquidare | R4: TEST
A5: PROTEZIONE CIVILE | B5: 102661 | C5: DE CARLI PIETRO ANTONIO | D5: AGO | E5: 48 | F5: 48 | G5: =(E5-F5) -> 0 | H5: =TRUNC(F5/24) -> 2 | I5: =$I$2 -> 41.32 | J5: =$I$2/24*F5 -> 82.64 | K5: =TRUNC(G5/12) -> 0 | L5: 0.861 | M5: =L5*G5 -> 0 | O5: 11.36 | P5: =O5*N5 -> 0 | Q5: =(J5+M5+P5) -> 82.64
A6: PROTEZIONE CIVILE | B6: 102661 | C6: DE CARLI PIETRO ANTONIO | D6: SETT | E6: 139.5 | F6: 48 | G6: =(E6-F6) -> 91.5 | H6: =TRUNC(F6/24) -> 2 | I6: =$I$2 -> 41.32 | J6: =$I$2/24*F6 -> 82.64 | K6: =TRUNC(G6/12) -> 7 | L6: 0.861 | M6: =L6*G6 -> 78.78 | O6: 11.36 | P6: =O6*N6 -> 0 | Q6: =(J6+M6+P6) -> 161.42
A7: PROTEZIONE CIVILE | B7: 103485 | C7: BONUGLIA SILVIA | D7: SETT | E7: 115.5 | F7: 24 | G7: =(E7-F7) -> 91.5 | H7: =TRUNC(F7/24) -> 1 | I7: =$I$2 -> 41.32 | J7: =$I$2/24*F7 -> 41.32 | K7: =TRUNC(G7/12) -> 7 | L7: 0,861 | M7: =L7*G7 -> 78.78 | O7: =$O$2 -> 11.36 | P7: =N7*$O$2 -> 0 | Q7: =(J7+M7+P7) -> 120.1 | R7: =COUNTIF($C$5:$C$10,C7) -> 1
A8: PROTEZIONE CIVILE | B8: 102684 | C8: RUGGERI ANDREA | D8: SETT | E8: 32.5 | G8: =(E8-F8) -> 32.5 | H8: =TRUNC(F8/24) -> 0 | I8: =$I$2 -> 41.32 | J8: =$I$2/24*F8 -> 0 | K8: =TRUNC(G8/12) -> 2 | L8: 0,861 | M8: =L8*G8 -> 27.98 | O8: =$O$2 -> 11.36 | P8: =N8*$O$2 -> 0 | Q8: =(J8+M8+P8) -> 27.98 | R8: =COUNTIF($C$5:$C$10,C8) -> 1
A9: PROTEZIONE CIVILE | B9: 104106 | C9: VISENTIN MICHELE | D9: SETT | E9: 130.5 | F9: 24 | G9: =(E9-F9) -> 106.5 | H9: =TRUNC(F9/24) -> 1 | I9: =$I$2 -> 41.32 | J9: =$I$2/24*F9 -> 41.32 | K9: =TRUNC(G9/12) -> 8 | L9: 0,861 | M9: =L9*G9 -> 91.7 | O9: =$O$2 -> 11.36 | P9: =N9*$O$2 -> 0 | Q9: =(J9+M9+P9) -> 133.02
A10: AGRICOLTURA | B10: 102669 | C10: GORGI EMANUELE | D10: SETT | E10: 144 | F10: 72 | G10: =E10-F10 -> 72 | H10: =TRUNC(F10/24) -> 3 | I10: =$I$2 -> 41.32 | J10: =$I$2/24*F10 -> 123.96 | K10: =TRUNC(G10/12) -> 6 | L10: 0,861 | M10: =L10*G10 -> 61.99 | N10: =((G10/12)-K10) -> 0 | O10: =$O$2 -> 11.36 | P10: =N10*$O$2 -> 0 | Q10: =(J10+M10+P10) -> 185.95 | R10: =COUNTIF($C$5:$C$10,C10) -> 1
A11: TOTALE | E11: =SUM(E5:E10) -> 610 | F11: =SUM(F5:F10) -> 216 | G11: =(E11-F11) -> 394 | K11: =TRUNC(G11/12) -> 32 | M11: =SUBTOTAL(9,M5:M10) -> 339.23 | N11: =((G11/12)-K11) -> 0.83333333 | P11: =N11*$O$2 -> 9.4666667 | Q11: =SUM(Q5:Q10) -> 711.11

Sheet Pivot_calcolo
A3: Somma di totale ore
A4: dipendente | B4: Totale | C4: max ore | D4: ore festive | E4: Reperibilita
A5: RUGGERI ANDREA (FEB) | B5: #NAME? | C5: =IF(B5>=144,144,B5) -> #NAME? | D5: =IF(ISNA(VLOOKUP(A5,feste,2,FALSE)),0,VLOOKUP(A5,feste,2,FALSE)) -> 0 | E5: =IF(ISNA(VLOOKUP(A5,conteggio_reperibilita!$C$5:$C$10,1,FALSE)),"……….",VLOOKUP(A5,conteggio_reperibilita!$C$5:$C$10,1,FALSE)) -> ……….
A6: GORGI EMANUELE | B6: #NAME? | C6: =IF(B6>=144,144,B6) -> #NAME? | D6: =IF(ISNA(VLOOKUP(A6,feste,2,FALSE)),0,VLOOKUP(A6,feste,2,FALSE)) -> #NAME? | E6: =IF(ISNA(VLOOKUP(A6,conteggio_reperibilita!$C$5:$C$10,1,FALSE)),"……….",VLOOKUP(A6,conteggio_reperibilita!$C$5:$C$10,1,FALSE)) -> GORGI EMANUELE
A7: RUGGERI ANDREA (ago) | B7: #NAME? | C7: =IF(B7>=144,144,B7) -> #NAME? | D7: =IF(ISNA(VLOOKUP(A7,feste,2,FALSE)),0,VLOOKUP(A7,feste,2,FALSE)) -> #NAME? | E7: =IF(ISNA(VLOOKUP(A7,conteggio_reperibilita!$C$5:$C$10,1,FALSE)),"……….",VLOOKUP(A7,conteggio_reperibilita!$C$5:$C$10,1,FALSE)) -> ……….
A8: DE CARLI PIETRO ANTONIO | B8: #NAME? | C8: =IF(B8>=144,144,B8) -> #NAME? | D8: =IF(ISNA(VLOOKUP(A8,feste,2,FALSE)),0,VLOOKUP(A8,feste,2,FALSE)) -> #NAME? | E8: =IF(ISNA(VLOOKUP(A8,conteggio_reperibilita!$C$5:$C$10,1,FALSE)),"……….",VLOOKUP(A8,conteggio_reperibilita!$C$5:$C$10,1,FALSE)) -> ……….
A9: RUGGERI ANDREA(dic) | B9: #NAME? | C9: =IF(B9>=144,144,B9) -> #NAME? | D9: =IF(ISNA(VLOOKUP(A9,feste,2,FALSE)),0,VLOOKUP(A9,feste,2,FALSE)) -> 0 | E9: =IF(ISNA(VLOOKUP(A9,conteggio_reperibilita!$C$5:$C$10,1,FALSE)),"……….",VLOOKUP(A9,conteggio_reperibilita!$C$5:$C$10,1,FALSE)) -> ……….
A10: ROSSI CARLO | B10: #NAME? | C10: =IF(B10>=144,144,B10) -> #NAME? | D10: =IF(ISNA(VLOOKUP(A10,feste,2,FALSE)),0,VLOOKUP(A10,feste,2,FALSE)) -> #NAME? | E10: =IF(ISNA(VLOOKUP(A10,conteggio_reperibilita!$C$5:$C$10,1,FALSE)),"……….",VLOOKUP(A10,conteggio_reperibilita!$C$5:$C$10,1,FALSE)) -> ……….
A11: (vuoto) | B11: #NAME? | C11: =IF(B11>=144,144,B11) -> #NAME? | D11: =IF(ISNA(VLOOKUP(A11,feste,2,FALSE)),0,VLOOKUP(A11,feste,2,FALSE)) -> 0 | E11: =IF(ISNA(VLOOKUP(A11,conteggio_reperibilita!$C$5:$C$10,1,FALSE)),"……….",VLOOKUP(A11,conteggio_reperibilita!$C$5:$C$10,1,FALSE)) -> ……….
A12: ROSSI CARLO(dic) | B12: #NAME? | C12: =IF(B12>=144,144,B12) -> #NAME? | D12: =IF(ISNA(VLOOKUP(A12,feste,2,FALSE)),0,VLOOKUP(A12,feste,2,FALSE)) -> #NAME? | E12: =IF(ISNA(VLOOKUP(A12,conteggio_reperibilita!$C$5:$C$10,1,FALSE)),"……….",VLOOKUP(A12,conteggio_reperibilita!$C$5:$C$10,1,FALSE)) -> ……….
A13: BONUGLIA SILVIA | B13: #NAME? | C13: =IF(B13>=144,144,B13) -> #NAME? | D13: =IF(ISNA(VLOOKUP(A13,feste,2,FALSE)),0,VLOOKUP(A13,feste,2,FALSE)) -> #NAME? | E13: =IF(ISNA(VLOOKUP(A13,conteggio_reperibilita!$C$5:$C$10,1,FALSE)),"……….",VLOOKUP(A13,conteggio_reperibilita!$C$5:$C$10,1,FALSE)) -> BONUGLIA SILVIA
A14: GORGI EMANUELE(AGO) | B14: #NAME? | C14: =IF(B14>=144,144,B14) -> #NAME? | D14: =IF(ISNA(VLOOKUP(A14,feste,2,FALSE)),0,VLOOKUP(A14,feste,2,FALSE)) -> 0 | E14: =IF(ISNA(VLOOKUP(A14,conteggio_reperibilita!$C$5:$C$10,1,FALSE)),"……….",VLOOKUP(A14,conteggio_reperibilita!$C$5:$C$10,1,FALSE)) -> ……….
A15: GORGI EMANUELE(LUG) | C15: =IF(B15>=144,144,B15) -> 0 | D15: =IF(ISNA(VLOOKUP(A15,feste,2,FALSE)),0,VLOOKUP(A15,feste,2,FALSE)) -> 0 | E15: =IF(ISNA(VLOOKUP(A15,conteggio_reperibilita!$C$5:$C$10,1,FALSE)),"……….",VLOOKUP(A15,conteggio_reperibilita!$C$5:$C$10,1,FALSE)) -> ……….
A16: MARIANI ROCCO | B16: #NAME? | C16: =IF(B16>=144,144,B16) -> #NAME? | D16: =IF(ISNA(VLOOKUP(A16,feste,2,FALSE)),0,VLOOKUP(A16,feste,2,FALSE)) -> #NAME? | E16: =IF(ISNA(VLOOKUP(A16,conteggio_reperibilita!$C$5:$C$10,1,FALSE)),"……….",VLOOKUP(A16,conteggio_reperibilita!$C$5:$C$10,1,FALSE)) -> ……….
A17: Totale complessivo | B17: #NAME? | C17: =IF(B17>=144,144,B17) -> #NAME? | D17: =IF(ISNA(VLOOKUP(A17,feste,2,FALSE)),0,VLOOKUP(A17,feste,2,FALSE)) -> #NAME? | E17: =IF(ISNA(VLOOKUP(A17,conteggio_reperibilita!$C$5:$C$10,1,FALSE)),"……….",VLOOKUP(A17,conteggio_reperibilita!$C$5:$C$10,1,FALSE)) -> ……….
C18: =IF(B18>=144,144,B18) -> 0 | D18: =IF(ISNA(VLOOKUP(A18,feste,2,FALSE)),0,VLOOKUP(A18,feste,2,FALSE)) -> 0 | E18: =IF(ISNA(VLOOKUP(A18,conteggio_reperibilita!$C$5:$C$10,1,FALSE)),"……….",VLOOKUP(A18,conteggio_reperibilita!$C$5:$C$10,1,FALSE)) -> ……….
C19: =IF(B19>=144,144,B19) -> 0 | D19: =IF(ISNA(VLOOKUP(A19,feste,2,FALSE)),0,VLOOKUP(A19,feste,2,FALSE)) -> 0 | E19: =IF(ISNA(VLOOKUP(A19,conteggio_reperibilita!$C$5:$C$10,1,FALSE)),"……….",VLOOKUP(A19,conteggio_reperibilita!$C$5:$C$10,1,FALSE)) -> ……….
C20: =IF(B20>=144,144,B20) -> 0 | D20: =IF(ISNA(VLOOKUP(A20,feste,2,FALSE)),0,VLOOKUP(A20,feste,2,FALSE)) -> 0 | E20: =IF(ISNA(VLOOKUP(A20,conteggio_reperibilita!$C$5:$C$10,1,FALSE)),"……….",VLOOKUP(A20,conteggio_reperibilita!$C$5:$C$10,1,FALSE)) -> ……….
C21: =IF(B21>=144,144,B21) -> 0 | D21: =IF(ISNA(VLOOKUP(A21,feste,2,FALSE)),0,VLOOKUP(A21,feste,2,FALSE)) -> 0 | E21: =IF(ISNA(VLOOKUP(A21,conteggio_reperibilita!$C$5:$C$10,1,FALSE)),"……….",VLOOKUP(A21,conteggio_reperibilita!$C$5:$C$10,1,FALSE)) -> ……….
C22: =IF(B22>=144,144,B22) -> 0 | D22: =IF(ISNA(VLOOKUP(A22,feste,2,FALSE)),0,VLOOKUP(A22,feste,2,FALSE)) -> 0 | E22: =IF(ISNA(VLOOKUP(A22,conteggio_reperibilita!$C$5:$C$10,1,FALSE)),"……….",VLOOKUP(A22,conteggio_reperibilita!$C$5:$C$10,1,FALSE)) -> ……….
C23: =IF(B23>=144,144,B23) -> 0 | D23: =IF(ISNA(VLOOKUP(A23,feste,2,FALSE)),0,VLOOKUP(A23,feste,2,FALSE)) -> 0 | E23: =IF(ISNA(VLOOKUP(A23,conteggio_reperibilita!$C$5:$C$10,1,FALSE)),"……….",VLOOKUP(A23,conteggio_reperibilita!$C$5:$C$10,1,FALSE)) -> ……….
C24: =IF(B24>=144,144,B24) -> 0 | D24: =IF(ISNA(VLOOKUP(A24,feste,2,FALSE)),0,VLOOKUP(A24,feste,2,FALSE)) -> 0 | E24: =IF(ISNA(VLOOKUP(A24,conteggio_reperibilita!$C$5:$C$10,1,FALSE)),"……….",VLOOKUP(A24,conteggio_reperibilita!$C$5:$C$10,1,FALSE)) -> ……….
C25: =IF(B25>=144,144,B25) -> 0 | D25: =IF(ISNA(VLOOKUP(A25,feste,2,FALSE)),0,VLOOKUP(A25,feste,2,FALSE)) -> 0 | E25: =IF(ISNA(VLOOKUP(A25,conteggio_reperibilita!$C$5:$C$10,1,FALSE)),"……….",VLOOKUP(A25,conteggio_reperibilita!$C$5:$C$10,1,FALSE)) -> ……….
C26: =IF(B26>=144,144,B26) -> 0 | D26: =IF(ISNA(VLOOKUP(A26,feste,2,FALSE)),0,VLOOKUP(A26,feste,2,FALSE)) -> 0 | E26: =IF(ISNA(VLOOKUP(A26,conteggio_reperibilita!$C$5:$C$10,1,FALSE)),"……….",VLOOKUP(A26,conteggio_reperibilita!$C$5:$C$10,1,FALSE)) -> ……….
C27: =IF(B27>=144,144,B27) -> 0 | D27: =IF(ISNA(VLOOKUP(A27,feste,2,FALSE)),0,VLOOKUP(A27,feste,2,FALSE)) -> 0 | E27: =IF(ISNA(VLOOKUP(A27,conteggio_reperibilita!$C$5:$C$10,1,FALSE)),"……….",VLOOKUP(A27,conteggio_reperibilita!$C$5:$C$10,1,FALSE)) -> ……….
C28: =IF(B28>=144,144,B28) -> 0 | D28: =IF(ISNA(VLOOKUP(A28,feste,2,FALSE)),0,VLOOKUP(A28,feste,2,FALSE)) -> 0 | E28: =IF(ISNA(VLOOKUP(A28,conteggio_reperibilita!$C$5:$C$10,1,FALSE)),"……….",VLOOKUP(A28,conteggio_reperibilita!$C$5:$C$10,1,FALSE)) -> ……….
C29: =IF(B29>=144,144,B29) -> 0 | D29: =IF(ISNA(VLOOKUP(A29,feste,2,FALSE)),0,VLOOKUP(A29,feste,2,FALSE)) -> 0 | E29: =IF(ISNA(VLOOKUP(A29,conteggio_reperibilita!$C$5:$C$10,1,FALSE)),"……….",VLOOKUP(A29,conteggio_reperibilita!$C$5:$C$10,1,FALSE)) -> ……….
... C173: =IF(B173>=144,144,B173) -> 0 | D173: =IF(ISNA(VLOOKUP(A173,feste,2,FALSE)),0,VLOOKUP(A173,feste,2,FALSE)) -> 0 | E173: =IF(ISNA(VLOOKUP(A173,conteggio_reperibilita!$C$5:$C$10,1,FALSE)),"……….",VLOOKUP(A173,conteggio_reperibilita!$C$5:$C$10,1,FALSE)) -> ……….

Sheet Pivot_feste
A3: Somma di ore festive
A4: dipendente | B4: Totale
A5: DE CARLI PIETRO ANTONIO | B5: #NAME?
A6: (vuoto) | B6: 0
A7: RUGGERI ANDREA (FEB) | B7: 0
A8: GORGI EMANUELE | B8: #NAME?
A9: RUGGERI ANDREA (ago) | B9: #NAME?
A10: RUGGERI ANDREA(dic)
A11: ROSSI CARLO | B11: #NAME?
A12: ROSSI CARLO(dic) | B12: #NAME?
A13: BONUGLIA SILVIA | B13: #NAME?
A14: GORGI EMANUELE(AGO) | B14: 0
A15: GORGI EMANUELE(LUG) | B15: 0
A16: MARIANI ROCCO | B16: #NAME?
A17: Totale complessivo | B17: #NAME?

Sheet Pivot ore
A3: Somma di totale ore
A4: dipendente | B4: Totale
A5: DE CARLI PIETRO ANTONIO | B5: #NAME?
A6: inserire nuova voce da qui
A7: RUGGERI ANDREA(dic) | B7: #NAME?
A8: RUGGERI ANDREA (FEB) | B8: #NAME?
A9: GORGI EMANUELE | B9: #NAME?
A10: ROSSI CARLO | B10: #NAME?
A11: (vuoto) | B11: #NAME?
A12: RUGGERI ANDREA (ago) | B12: #NAME?
A13: ROSSI CARLO(dic) | B13: #NAME?
A14: BONUGLIA SILVIA | B14: #NAME?
A15: GORGI EMANUELE(AGO) | B15: #NAME?
A16: GORGI EMANUELE(LUG)
A17: MARIANI ROCCO | B17: #NAME?
A18: Totale complessivo | B18: #NAME?

Sheet GIUGNO
F1: 6 | G1: =144*60 -> 8640 | H1: 144
A2: dipendente | B2: settore | C2: mese | D2: dal | E2: al | F2: totale ore | G2: max ore | H2: ore festive
A3: DE CARLI PIETRO ANTONIO | B3: Prot civ | C3: DIC | D3: 45261 | E3: 45264.375 | F3: 67.2 | G3: 67.2 | H3: 24
A4: DE CARLI PIETRO ANTONIO | B4: Prot civ | C4: DIC | D4: 45264.645 | E4: 45265.375 | F4: =IF(minuti($D4,$E4)>$G$1,$G$1/60,minuti($D4,$E4)/60) -> #NAME? | G4: =IF(SUMIF($A$3:$A$69,A4,$F$3:$F$69)>$H$1,$H$1,SUMIF($A$3:$A$69,A4,$F$3:$F$69)) -> #NAME? | H4: =IF(ISBLANK($D4),0,IF(minuti_feste($D4,$E4)>$G$1,$G$1/60,minuti_feste($D4,$E4)/60)) -> #NAME?
A5: DE CARLI PIETRO ANTONIO | B5: Prot civ | C5: DIC | F5: =IF(minuti($D5,$E5)>$G$1,$G$1/60,minuti($D5,$E5)/60) -> #NAME? | G5: =IF(SUMIF($A$3:$A$69,A5,$F$3:$F$69)>$H$1,$H$1,SUMIF($A$3:$A$69,A5,$F$3:$F$69)) -> #NAME? | H5: =IF(ISBLANK($D5),0,IF(minuti_feste($D5,$E5)>$G$1,$G$1/60,minuti_feste($D5,$E5)/60)) -> 0
A6: DE CARLI PIETRO ANTONIO | B6: Prot civ | C6: DIC | D6: 45275.599 | E6: 45278.375 | F6: =IF(minuti($D6,$E6)>$G$1,$G$1/60,minuti($D6,$E6)/60) -> #NAME? | G6: =IF(SUMIF($A$3:$A$69,A6,$F$3:$F$69)>$H$1,$H$1,SUMIF($A$3:$A$69,A6,$F$3:$F$69)) -> #NAME? | H6: =IF(ISBLANK($D6),0,IF(minuti_feste($D6,$E6)>$G$1,$G$1/60,minuti_feste($D6,$E6)/60)) -> #NAME?
A7: DE CARLI PIETRO ANTONIO | B7: Prot civ | C7: DIC | D7: 45278.693 | E7: 45279.375 | F7: =IF(minuti($D7,$E7)>$G$1,$G$1/60,minuti($D7,$E7)/60) -> #NAME? | G7: =IF(SUMIF($A$3:$A$69,A7,$F$3:$F$69)>$H$1,$H$1,SUMIF($A$3:$A$69,A7,$F$3:$F$69)) -> #NAME? | H7: =IF(ISBLANK($D7),0,IF(minuti_feste($D7,$E7)>$G$1,$G$1/60,minuti_feste($D7,$E7)/60)) -> #NAME?
A8: DE CARLI PIETRO ANTONIO | B8: Prot civ | F8: =IF(minuti($D8,$E8)>$G$1,$G$1/60,minuti($D8,$E8)/60) -> #NAME? | G8: =IF(SUMIF($A$3:$A$69,A8,$F$3:$F$69)>$H$1,$H$1,SUMIF($A$3:$A$69,A8,$F$3:$F$69)) -> #NAME? | H8: =IF(ISBLANK($D8),0,IF(minuti_feste($D8,$E8)>$G$1,$G$1/60,minuti_feste($D8,$E8)/60)) -> 0
A9: BONUGLIA SILVIA | B9: Prot civ | C9: DIC | D9: 45273.694 | E9: 45274.338 | F9: =IF(minuti($D9,$E9)>$G$1,$G$1/60,minuti($D9,$E9)/60) -> #NAME? | G9: =IF(SUMIF($A$3:$A$69,A9,$F$3:$F$69)>$H$1,$H$1,SUMIF($A$3:$A$69,A9,$F$3:$F$69)) -> #NAME? | H9: =IF(ISBLANK($D9),0,IF(minuti_feste($D9,$E9)>$G$1,$G$1/60,minuti_feste($D9,$E9)/60)) -> #NAME?
A10: BONUGLIA SILVIA | B10: Prot civ | C10: DIC | D10: 45274.594 | E10: 45275.133 | F10: =IF(minuti($D10,$E10)>$G$1,$G$1/60,minuti($D10,$E10)/60) -> #NAME? | G10: =IF(SUMIF($A$3:$A$69,A10,$F$3:$F$69)>$H$1,$H$1,SUMIF($A$3:$A$69,A10,$F$3:$F$69)) -> #NAME? | H10: =IF(ISBLANK($D10),0,IF(minuti_feste($D10,$E10)>$G$1,$G$1/60,minuti_feste($D10,$E10)/60)) -> #NAME?
A11: BONUGLIA SILVIA | B11: Prot civ | C11: DIC | D11: 45275.204 | E11: 45275.312 | F11: =IF(minuti($D11,$E11)>$G$1,$G$1/60,minuti($D11,$E11)/60) -> #NAME? | G11: =IF(SUMIF($A$3:$A$69,A11,$F$3:$F$69)>$H$1,$H$1,SUMIF($A$3:$A$69,A11,$F$3:$F$69)) -> #NAME? | H11: =IF(ISBLANK($D11),0,IF(minuti_feste($D11,$E11)>$G$1,$G$1/60,minuti_feste($D11,$E11)/60)) -> #NAME?
A12: BONUGLIA SILVIA | B12: Prot civ | C12: DIC | D12: 45287.592 | E12: 45288.321 | F12: =IF(minuti($D12,$E12)>$G$1,$G$1/60,minuti($D12,$E12)/60) -> #NAME? | G12: =IF(SUMIF($A$3:$A$69,A12,$F$3:$F$69)>$H$1,$H$1,SUMIF($A$3:$A$69,A12,$F$3:$F$69)) -> #NAME? | H12: =IF(ISBLANK($D12),0,IF(minuti_feste($D12,$E12)>$G$1,$G$1/60,minuti_feste($D12,$E12)/60)) -> #NAME?
A13: BONUGLIA SILVIA | B13: Prot civ | C13: DIC | D13: 45288.709 | E13: 45289.319 | F13: =IF(minuti($D13,$E13)>$G$1,$G$1/60,minuti($D13,$E13)/60) -> #NAME? | G13: =IF(SUMIF($A$3:$A$69,A13,$F$3:$F$69)>$H$1,$H$1,SUMIF($A$3:$A$69,A13,$F$3:$F$69)) -> #NAME? | H13: =IF(ISBLANK($D13),0,IF(minuti_feste($D13,$E13)>$G$1,$G$1/60,minuti_feste($D13,$E13)/60)) -> #NAME?
A14: BONUGLIA SILVIA | B14: Prot civ | C14: DIC | D14: 45289.59 | E14: 45291.999 | F14: =IF(minuti($D14,$E14)>$G$1,$G$1/60,minuti($D14,$E14)/60) -> #NAME? | G14: =IF(SUMIF($A$3:$A$69,A14,$F$3:$F$69)>$H$1,$H$1,SUMIF($A$3:$A$69,A14,$F$3:$F$69)) -> #NAME? | H14: =IF(ISBLANK($D14),0,IF(minuti_feste($D14,$E14)>$G$1,$G$1/60,minuti_feste($D14,$E14)/60)) -> #NAME?
A15: BONUGLIA SILVIA | B15: Prot civ | F15: =IF(minuti($D15,$E15)>$G$1,$G$1/60,minuti($D15,$E15)/60) -> #NAME? | G15: =IF(SUMIF($A$3:$A$69,A15,$F$3:$F$69)>$H$1,$H$1,SUMIF($A$3:$A$69,A15,$F$3:$F$69)) -> #NAME? | H15: =IF(ISBLANK($D15),0,IF(minuti_feste($D15,$E15)>$G$1,$G$1/60,minuti_feste($D15,$E15)/60)) -> 0
A16: BONUGLIA SILVIA | B16: Prot civ | F16: =IF(minuti($D16,$E16)>$G$1,$G$1/60,minuti($D16,$E16)/60) -> #NAME? | G16: =IF(SUMIF($A$3:$A$69,A16,$F$3:$F$69)>$H$1,$H$1,SUMIF($A$3:$A$69,A16,$F$3:$F$69)) -> #NAME? | H16: =IF(ISBLANK($D16),0,IF(minuti_feste($D16,$E16)>$G$1,$G$1/60,minuti_feste($D16,$E16)/60)) -> 0
A17: BONUGLIA SILVIA | B17: Prot civ | F17: =IF(minuti($D17,$E17)>$G$1,$G$1/60,minuti($D17,$E17)/60) -> #NAME? | G17: =IF(SUMIF($A$3:$A$69,A17,$F$3:$F$69)>$H$1,$H$1,SUMIF($A$3:$A$69,A17,$F$3:$F$69)) -> #NAME? | H17: =IF(ISBLANK($D17),0,IF(minuti_feste($D17,$E17)>$G$1,$G$1/60,minuti_feste($D17,$E17)/60)) -> 0
A21: RUGGERI ANDREA | B21: Prot civ | F21: =IF(minuti($D21,$E21)>$G$1,$G$1/60,minuti($D21,$E21)/60) -> #NAME? | G21: =IF(SUMIF($A$3:$A$69,A21,$F$3:$F$69)>$H$1,$H$1,SUMIF($A$3:$A$69,A21,$F$3:$F$69)) -> #NAME?
A22: RUGGERI ANDREA (ago) | B22: Prot civ | C22: APR | D22: 45397.767 | E22: 45398.357 | F22: =IF(minuti($D22,$E22)>$G$1,$G$1/60,minuti($D22,$E22)/60) -> #NAME? | G22: =IF(SUMIF($A$3:$A$69,A22,$F$3:$F$69)>$H$1,$H$1,SUMIF($A$3:$A$69,A22,$F$3:$F$69)) -> #NAME? | H22: =IF(ISBLANK($D22),0,IF(minuti_feste($D22,$E22)>$G$1,$G$1/60,minuti_feste($D22,$E22)/60)) -> #NAME?
A23: RUGGERI ANDREA (ago) | B23: Prot civ | C23: APR | D23: 45398.716 | E23: 45399.375 | F23: =IF(minuti($D23,$E23)>$G$1,$G$1/60,minuti($D23,$E23)/60) -> #NAME? | G23: =IF(SUMIF($A$3:$A$69,A23,$F$3:$F$69)>$H$1,$H$1,SUMIF($A$3:$A$69,A23,$F$3:$F$69)) -> #NAME? | H23: =IF(ISBLANK($D23),0,IF(minuti_feste($D23,$E23)>$G$1,$G$1/60,minuti_feste($D23,$E23)/60)) -> #NAME?
A24: RUGGERI ANDREA (ago) | B24: Prot civ | C24: APR | D24: 45399.794 | E24: 45400.375 | F24: =IF(minuti($D24,$E24)>$G$1,$G$1/60,minuti($D24,$E24)/60) -> #NAME? | G24: =IF(SUMIF($A$3:$A$69,A24,$F$3:$F$69)>$H$1,$H$1,SUMIF($A$3:$A$69,A24,$F$3:$F$69)) -> #NAME? | H24: =IF(ISBLANK($D24),0,IF(minuti_feste($D24,$E24)>$G$1,$G$1/60,minuti_feste($D24,$E24)/60)) -> #NAME?
A25: RUGGERI ANDREA (ago) | B25: Prot civ | C25: APR | D25: 45400.651 | E25: 45401.375 | F25: =IF(minuti($D25,$E25)>$G$1,$G$1/60,minuti($D25,$E25)/60) -> #NAME? | G25: =IF(SUMIF($A$3:$A$69,A25,$F$3:$F$69)>$H$1,$H$1,SUMIF($A$3:$A$69,A25,$F$3:$F$69)) -> #NAME? | H25: =IF(ISBLANK($D25),0,IF(minuti_feste($D25,$E25)>$G$1,$G$1/60,minuti_feste($D25,$E25)/60)) -> #NAME?
A26: RUGGERI ANDREA (ago) | B26: Prot civ | C26: APR | D26: 45401.636 | E26: 45402.588 | F26: =IF(minuti($D26,$E26)>$G$1,$G$1/60,minuti($D26,$E26)/60) -> #NAME? | G26: =IF(SUMIF($A$3:$A$69,A26,$F$3:$F$69)>$H$1,$H$1,SUMIF($A$3:$A$69,A26,$F$3:$F$69)) -> #NAME? | H26: =IF(ISBLANK($D26),0,IF(minuti_feste($D26,$E26)>$G$1,$G$1/60,minuti_feste($D26,$E26)/60)) -> #NAME?
A27: RUGGERI ANDREA (ago) | B27: Prot civ | C27: APR | D27: 45402.646 | E27: 45403.333 | F27: =IF(minuti($D27,$E27)>$G$1,$G$1/60,minuti($D27,$E27)/60) -> #NAME? | G27: =IF(SUMIF($A$3:$A$69,A27,$F$3:$F$69)>$H$1,$H$1,SUMIF($A$3:$A$69,A27,$F$3:$F$69)) -> #NAME? | H27: =IF(ISBLANK($D27),0,IF(minuti_feste($D27,$E27)>$G$1,$G$1/60,minuti_feste($D27,$E27)/60)) -> #NAME?
A28: RUGGERI ANDREA (ago) | B28: Prot civ | C28: APR | D28: 45403.583 | E28: 45404.375 | F28: =IF(minuti($D28,$E28)>$G$1,$G$1/60,minuti($D28,$E28)/60) -> #NAME? | G28: =IF(SUMIF($A$3:$A$69,A28,$F$3:$F$69)>$H$1,$H$1,SUMIF($A$3:$A$69,A28,$F$3:$F$69)) -> #NAME? | H28: =IF(ISBLANK($D28),0,IF(minuti_feste($D28,$E28)>$G$1,$G$1/60,minuti_feste($D28,$E28)/60)) -> #NAME?
A29: RUGGERI ANDREA (FEB) | B29: Prot civ | C29: FEB | F29: =IF(minuti($D29,$E29)>$G$1,$G$1/60,minuti($D29,$E29)/60) -> #NAME? | G29: =IF(SUMIF($A$3:$A$69,A29,$F$3:$F$69)>$H$1,$H$1,SUMIF($A$3:$A$69,A29,$F$3:$F$69)) -> #NAME? | H29: =IF(ISBLANK($D29),0,IF(minuti_feste($D29,$E29)>$G$1,$G$1/60,minuti_feste($D29,$E29)/60)) -> 0 | M29: 81.7
A30: RUGGERI ANDREA (FEB) | B30: Prot civ | C30: FEB | F30: =IF(minuti($D30,$E30)>$G$1,$G$1/60,minuti($D30,$E30)/60) -> #NAME? | G30: =IF(SUMIF($A$3:$A$69,A30,$F$3:$F$69)>$H$1,$H$1,SUMIF($A$3:$A$69,A30,$F$3:$F$69)) -> #NAME? | H30: =IF(ISBLANK($D30),0,IF(minuti_feste($D30,$E30)>$G$1,$G$1/60,minuti_feste($D30,$E30)/60)) -> 0 | M30: -24
A31: ROSSI CARLO | B31: Prot civ | F31: =IF(minuti($D31,$E31)>$G$1,$G$1/60,minuti($D31,$E31)/60) -> #NAME? | G31: =IF(SUMIF($A$3:$A$69,A31,$F$3:$F$69)>$H$1,$H$1,SUMIF($A$3:$A$69,A31,$F$3:$F$69)) -> #NAME? | H31: =IF(ISBLANK($D31),0,IF(minuti_feste($D31,$E31)>$G$1,$G$1/60,minuti_feste($D31,$E31)/60)) -> 0 | M31: =SUM(M29:M30) -> 57.7
A32: ROSSI CARLO | B32: Prot civ | C32: NOV | F32: =IF(minuti($D32,$E32)>$G$1,$G$1/60,minuti($D32,$E32)/60) -> #NAME? | G32: =IF(SUMIF($A$3:$A$69,A32,$F$3:$F$69)>$H$1,$H$1,SUMIF($A$3:$A$69,A32,$F$3:$F$69)) -> #NAME? | H32: =IF(ISBLANK($D32),0,IF(minuti_feste($D32,$E32)>$G$1,$G$1/60,minuti_feste($D32,$E32)/60)) -> 0 | M32: -33.3
A33: ROSSI CARLO | B33: Prot civ | C33: NOV | F33: =IF(minuti($D33,$E33)>$G$1,$G$1/60,minuti($D33,$E33)/60) -> #NAME? | G33: =IF(SUMIF($A$3:$A$69,A33,$F$3:$F$69)>$H$1,$H$1,SUMIF($A$3:$A$69,A33,$F$3:$F$69)) -> #NAME? | H33: =IF(ISBLANK($D33),0,IF(minuti_feste($D33,$E33)>$G$1,$G$1/60,minuti_feste($D33,$E33)/60)) -> 0
A34: ROSSI CARLO | B34: Prot civ | C34: NOV | F34: =IF(minuti($D34,$E34)>$G$1,$G$1/60,minuti($D34,$E34)/60) -> #NAME? | G34: =IF(SUMIF($A$3:$A$69,A34,$F$3:$F$69)>$H$1,$H$1,SUMIF($A$3:$A$69,A34,$F$3:$F$69)) -> #NAME? | H34: =IF(ISBLANK($D34),0,IF(minuti_feste($D34,$E34)>$G$1,$G$1/60,minuti_feste($D34,$E34)/60)) -> 0
A35: ROSSI CARLO | B35: Prot civ | C35: NOV | F35: =IF(minuti($D35,$E35)>$G$1,$G$1/60,minuti($D35,$E35)/60) -> #NAME? | G35: =IF(SUMIF($A$3:$A$69,A35,$F$3:$F$69)>$H$1,$H$1,SUMIF($A$3:$A$69,A35,$F$3:$F$69)) -> #NAME? | H35: =IF(ISBLANK($D35),0,IF(minuti_feste($D35,$E35)>$G$1,$G$1/60,minuti_feste($D35,$E35)/60)) -> 0
A36: ROSSI CARLO | B36: Prot civ | C36: NOV | D36: 45234.844 | E36: 45235.588 | F36: =IF(minuti($D36,$E36)>$G$1,$G$1/60,minuti($D36,$E36)/60) -> #NAME? | G36: =IF(SUMIF($A$3:$A$69,A36,$F$3:$F$69)>$H$1,$H$1,SUMIF($A$3:$A$69,A36,$F$3:$F$69)) -> #NAME? | H36: =IF(ISBLANK($D36),0,IF(minuti_feste($D36,$E36)>$G$1,$G$1/60,minuti_feste($D36,$E36)/60)) -> #NAME?
A37: ROSSI CARLO | B37: Prot civ | C37: NOV | D37: 45235.653 | E37: 45236.361 | F37: =IF(minuti($D37,$E37)>$G$1,$G$1/60,minuti($D37,$E37)/60) -> #NAME? | G37: =IF(SUMIF($A$3:$A$69,A37,$F$3:$F$69)>$H$1,$H$1,SUMIF($A$3:$A$69,A37,$F$3:$F$69)) -> #NAME? | H37: =IF(ISBLANK($D37),0,IF(minuti_feste($D37,$E37)>$G$1,$G$1/60,minuti_feste($D37,$E37)/60)) -> #NAME?
A38: ROSSI CARLO | B38: Prot civ | C38: NOV | F38: =IF(minuti($D38,$E38)>$G$1,$G$1/60,minuti($D38,$E38)/60) -> #NAME? | G38: =IF(SUMIF($A$3:$A$69,A38,$F$3:$F$69)>$H$1,$H$1,SUMIF($A$3:$A$69,A38,$F$3:$F$69)) -> #NAME? | H38: =IF(ISBLANK($D38),0,IF(minuti_feste($D38,$E38)>$G$1,$G$1/60,minuti_feste($D38,$E38)/60)) -> 0
A39: ROSSI CARLO | B39: Prot civ | C39: NOV | F39: =IF(minuti($D39,$E39)>$G$1,$G$1/60,minuti($D39,$E39)/60) -> #NAME? | G39: =IF(SUMIF($A$3:$A$69,A39,$F$3:$F$69)>$H$1,$H$1,SUMIF($A$3:$A$69,A39,$F$3:$F$69)) -> #NAME? | H39: =IF(ISBLANK($D39),0,IF(minuti_feste($D39,$E39)>$G$1,$G$1/60,minuti_feste($D39,$E39)/60)) -> 0
A40: ROSSI CARLO | B40: Prot civ | C40: NOV | F40: =IF(minuti($D40,$E40)>$G$1,$G$1/60,minuti($D40,$E40)/60) -> #NAME? | G40: =IF(SUMIF($A$3:$A$69,A40,$F$3:$F$69)>$H$1,$H$1,SUMIF($A$3:$A$69,A40,$F$3:$F$69)) -> #NAME? | H40: =IF(ISBLANK($D40),0,IF(minuti_feste($D40,$E40)>$G$1,$G$1/60,minuti_feste($D40,$E40)/60)) -> 0
A41: ROSSI CARLO | B41: Prot civ | C41: NOV | D41: 45253.606 | E41: 45254.374 | F41: =IF(minuti($D41,$E41)>$G$1,$G$1/60,minuti($D41,$E41)/60) -> #NAME? | G41: =IF(SUMIF($A$3:$A$69,A41,$F$3:$F$69)>$H$1,$H$1,SUMIF($A$3:$A$69,A41,$F$3:$F$69)) -> #NAME? | H41: =IF(ISBLANK($D41),0,IF(minuti_feste($D41,$E41)>$G$1,$G$1/60,minuti_feste($D41,$E41)/60)) -> #NAME?
A42: ROSSI CARLO | B42: Prot civ | C42: NOV | D42: 45254.715 | E42: 45256.353 | F42: =IF(minuti($D42,$E42)>$G$1,$G$1/60,minuti($D42,$E42)/60) -> #NAME? | G42: =IF(SUMIF($A$3:$A$69,A42,$F$3:$F$69)>$H$1,$H$1,SUMIF($A$3:$A$69,A42,$F$3:$F$69)) -> #NAME? | H42: =IF(ISBLANK($D42),0,IF(minuti_feste($D42,$E42)>$G$1,$G$1/60,minuti_feste($D42,$E42)/60)) -> #NAME?
A43: ROSSI CARLO | B43: Prot civ | C43: NOV | D43: 45256.41 | E43: 45257.369 | F43: =IF(minuti($D43,$E43)>$G$1,$G$1/60,minuti($D43,$E43)/60) -> #NAME? | G43: =IF(SUMIF($A$3:$A$69,A43,$F$3:$F$69)>$H$1,$H$1,SUMIF($A$3:$A$69,A43,$F$3:$F$69)) -> #NAME? | H43: =IF(ISBLANK($D43),0,IF(minuti_feste($D43,$E43)>$G$1,$G$1/60,minuti_feste($D43,$E43)/60)) -> #NAME?
...

Sheet conteggio_interinali
A1: LIQUIDAZIONE INDENNITA' DI REPERIBILITA': MESE DI MARZO 2008 E RETRO.
I2: 41.32 | L2: 10.33 | O2: 11.36
A4: Settore | B4: CI | C4: Nominativo | D4: mese | E4: Nr. ore | F4: Ore Festività | G4: Ore residue | H4: Giorni festivi | I4: Tariffa Festiva | J4: Importo giorno festivo | K4: Giorni da 12 ore | L4: Tariffa | M4: Importo | N4: Giorni frazione | O4: Tariffa | P4: Importo giorni frazione | Q4: Importo totale da liquidare
A5: VIABILITA' | D5: =IF(E5>0,"MAR"," ") | E5: =IF(ISNA(VLOOKUP($C5,mens,3,FALSE)),0,VLOOKUP($C5,mens,3,FALSE)) -> 0 | F5: =IF(ISNA(VLOOKUP($C5,mens,4,FALSE)),0,VLOOKUP($C5,mens,4,FALSE)) -> 0 | G5: =(E5-F5) -> 0 | H5: =TRUNC(F5/24) -> 0 | I5: =$I$2 -> 41.32 | J5: =$I$2/24*F5 -> 0 | K5: =TRUNC(G5/12) -> 0 | L5: =$L$2 -> 10.33 | M5: =(K5*$L$2) -> 0 | N5: =((G5/12)-K5) -> 0 | O5: =$O$2 -> 11.36 | P5: =N5*$O$2 -> 0 | Q5: =(J5+M5+P5) -> 0
A6: TOTALE | D6: =IF(E6>0,"MAR"," ") | E6: =SUM(E5:E5) -> 0 | F6: =SUM(F5:F5) -> 0 | G6: =(E6-F6) -> 0 | K6: =TRUNC(G6/12) -> 0 | M6: =(K6*$L$2) -> 0 | N6: =((G6/12)-K6) -> 0 | P6: =N6*$O$2 -> 0 | Q6: =SUM(Q5:Q5) -> 0

Sheet per dete-old
A1: ALLEGATO B
A2: OGGETTO: PERSONALE REGIONALE. LIQUIDAZIONE INDENNITA' DI REPERIBILITA' PERIODO 01/05/2022 - 31/05/2022 E RETRO
A4: IN PAGAMENTO SU STIPENDIO MESE DI: GIUGNO 2022
A6: Somma di Importo totale da liquidare
A7: CI | B7: mese | C7: Totale
A8: 102661 | B8: AGO | C8: 82.64
B9: SETT | C9: 161.42
A10: 102669 | B10: SETT | C10: 185.95
A11: 102684 | B11: SETT | C11: 27.98
A12: 103485 | B12: SETT | C12: 120.1
A13: 104106 | B13: SETT | C13: 133.02
A14: Totale complessivo | C14: 711.11
